BEGIN:VCALENDAR
VERSION:2.0
PRODID:-//Fitzrovia Gallery - ECPv5.5.0//NONSGML v1.0//EN
CALSCALE:GREGORIAN
METHOD:PUBLISH
X-WR-CALNAME:Fitzrovia Gallery
X-ORIGINAL-URL:https://fitzroviagallery.co.uk
X-WR-CALDESC:Events for Fitzrovia Gallery
BEGIN:VTIMEZONE
TZID:UTC
BEGIN:STANDARD
TZOFFSETFROM:+0000
TZOFFSETTO:+0000
TZNAME:UTC
DTSTART:20260101T000000
END:STANDARD
END:VTIMEZONE
BEGIN:VEVENT
DTSTART;VALUE=DATE:20260423
DTEND;VALUE=DATE:20260427
DTSTAMP:20260421T121843
CREATED:20260420T151705Z
LAST-MODIFIED:20260420T151705Z
UID:7895-1776902400-1777247999@fitzroviagallery.co.uk
SUMMARY:Made Between Shores
DESCRIPTION:Land Wave LDN is a London-based handmade ceramics brand shaped by East Asian sensibilities and coastal landscapes. Each piece is made with intention\, carrying the textures\, rhythms and quiet memories of the natural world. Founded by makers from island origins\, the studio holds space for fluid roots and craftsmanship that moves between cultures.
URL:https://fitzroviagallery.co.uk/event/made-between-shores/
CATEGORIES:Upcoming Exhibitions
ATTACH;FMTTYPE=image/png:https://fitzroviagallery.co.uk/wp-content/uploads/download1.png
END:VEVENT
END:VCALENDAR